Workbook
Name Slicer_Availability: #N/A
Name Slicer_Department: #N/A
Name Slicer_Department1: #N/A
Name Slicer_Department2: #N/A
Name Slicer_Satisfaction_Level: #N/A
Name Slicer_Status: #N/A

Sheet Dashboard_Appointments
A1: AppointmentID | B1: PatientID | C1: DoctorID | D1: Department | E1: Date | F1: Time | G1: Status
A2: N/A | B2: P96099 | C2: D26 | D2: Cardiology | E2: 45292 | F2: N/A | G2: N/A
A3: A7515 | B3: P16262 | C3: D1 | D3: Orthopedics | E3: 45545 | F3: 0.54166667 | G3: No Show
A4: A7537 | B4: P99601 | C4: D30 | D4: Cardiology | E4: 45643 | F4: 0.625 | G4: Completed
A5: A8866 | B5: P55235 | C5: D30 | D5: Neurology | E5: 45482 | F5: 0.64583333 | G5: Rescheduled
A6: A3039 | B6: P93372 | C6: D23 | D6: Pediatric | E6: 45516 | F6: 0.75 | G6: Cancelled
A7: A3237 | B7: P84444 | C7: D1 | D7: Pediatric | E7: 45357 | F7: 0.72916667 | G7: Rescheduled
A8: A8127 | B8: P41013 | C8: D24 | D8: Neurology | E8: 45383 | F8: 0.45833333 | G8: No Show
A9: A7025 | B9: P17235 | C9: D10 | D9: Neurology | E9: 45581 | F9: 0.625 | G9: No Show
A10: A8462 | B10: P35768 | C10: D8 | D10: Cardiology | E10: 45558 | F10: 0.64583333 | G10: Completed
A11: A9018 | B11: P28832 | C11: D14 | D11: Orthopedics | E11: 45395 | F11: 0.5625 | G11: Rescheduled
A12: A7791 | B12: P29680 | C12: D28 | D12: Orthopedics | E12: 45460 | F12: 0.35416667 | G12: No Show
A13: A4362 | B13: P93978 | C13: D5 | D13: Orthopedics | E13: 45519 | F13: 0.64583333 | G13: No Show
A14: N/A | B14: P83760 | C14: D1 | D14: Pediatric | E14: 45305 | F14: N/A | G14: Cancelled
A15: A1132 | B15: P41254 | C15: D23 | D15: Cardiology | E15: 45344 | F15: 0.33333333 | G15: Completed
A16: A6499 | B16: P73818 | C16: D6 | D16: Orthopedics | E16: 45311 | F16: 0.75 | G16: Rescheduled
A17: A2196 | B17: P79312 | C17: D14 | D17: Neurology | E17: 45589 | F17: 0.625 | G17: Completed
A18: A7135 | B18: P82827 | C18: D23 | D18: Neurology | E18: 45615 | F18: 0.60416667 | G18: Completed
A19: A8788 | B19: P25878 | C19: D28 | D19: Pediatric | E19: 45521 | F19: 0.66666667 | G19: Cancelled
A20: A1284 | B20: P93291 | C20: D6 | D20: Neurology | E20: 45476 | F20: 0.75 | G20: Rescheduled
A21: A7527 | B21: P14299 | C21: D29 | D21: Cardiology | E21: 45652 | F21: 0.52083333 | G21: Cancelled
A22: A5514 | B22: P90461 | C22: D15 | D22: Oncology | E22: 45640 | F22: 0.54166667 | G22: Cancelled
A23: A4853 | B23: P77174 | C23: D11 | D23: Pediatric | E23: 45635 | F23: 0.39583333 | G23: Rescheduled
A24: A4504 | B24: P38694 | C24: D14 | D24: General Medicine | E24: 45644 | F24: 0.41666667 | G24: No Show
A25: A2106 | B25: P45916 | C25: D25 | D25: General Medicine | E25: 45641 | F25: 0.75 | G25: Rescheduled
A26: N/A | B26: P98707 | C26: D20 | D26: General Medicine | F26: 0.54166667 | G26: N/A
A27: A6156 | B27: P68619 | C27: D11 | D27: Pediatric | E27: 45558 | F27: 0.75 | G27: Completed
A28: A2963 | B28: P11071 | C28: D13 | D28: Orthopedics | E28: 45486 | F28: 0.77083333 | G28: Cancelled
A29: A1511 | B29: P18878 | C29: D27 | D29: Pediatric | E29: 45322 | F29: 0.75 | G29: No Show
A30: A1949 | B30: P88817 | C30: D28 | D30: Pediatric | E30: 45520 | F30: 0.66666667 | G30: Cancelled
A31: A9088 | B31: P70452 | C31: D7 | D31: Neurology | E31: 45622 | F31: 0.41666667 | G31: No Show
A32: A1384 | B32: P79213 | C32: D13 | D32: General Medicine | E32: 45642 | F32: 0.35416667 | G32: Rescheduled
A33: A4140 | B33: P92292 | C33: D17 | D33: Orthopedics | E33: 45384 | F33: 0.72916667 | G33: No Show
A34: A6170 | B34: P46858 | C34: D17 | D34: Oncology | E34: 45446 | F34: 0.64583333 | G34: Rescheduled
A35: A5704 | B35: P10337 | C35: D12 | D35: Neurology | E35: 45383 | F35: 0.41666667 | G35: Cancelled
A36: A1762 | B36: P76416 | C36: D26 | D36: Oncology | E36: 45646 | F36: 0.5625 | G36: No Show
A37: A3377 | B37: P47558 | C37: D30 | D37: Orthopedics | E37: 45647 | F37: 0.6875 | G37: No Show
A38: A7484 | B38: P10851 | C38: D11 | D38: General Medicine | E38: 45416 | F38: 0.6875 | G38: Completed
... A57: A3495 | B57: P27259 | C57: D3 | D57: Neurology | E57: 45551 | F57: 0.64583333 | G57: Cancelled
A58: N/A | B58: P86378 | C58: D19 | D58: Neurology | F58: N/A | G58: N/A
A59: A9488 | B59: P11866 | C59: D7 | D59: General Medicine | E59: 45585 | F59: 0.75 | G59: Cancelled
A60: A5762 | B60: P82148 | C60: D6 | D60: Oncology | E60: 45517 | F60: 0.75 | G60: No Show
A61: A8076 | B61: P96356 | C61: D6 | D61: Neurology | E61: 45623 | F61: 0.375 | G61: Completed
A62: A9964 | B62: P95475 | C62: D1 | D62: Neurology | E62: 45298 | F62: 0.66666667 | G62: No Show
A63: A8328 | B63: P24760 | C63: D3 | D63: Oncology | E63: 45350 | F63: 0.47916667 | G63: No Show
A64: A3096 | B64: P94013 | C64: D20 | D64: Cardiology | E64: 45545 | F64: 0.72916667 | G64: Cancelled
A65: A5851 | B65: P28262 | C65: D30 | D65: Neurology | E65: 45648 | F65: 0.45833333 | G65: Rescheduled
A66: A9029 | B66: P27012 | C66: D4 | D66: General Medicine | E66: 45307 | F66: 0.77083333 | G66: Rescheduled
A67: A5016 | B67: P42600 | C67: D11 | D67: General Medicine | E67: 45617 | F67: 0.6875 | G67: Cancelled
A68: A8410 | B68: P59519 | C68: D1 | D68: Oncology | E68: 45387 | F68: 0.5 | G68: Completed
A69: A6602 | B69: P87869 | C69: D13 | D69: General Medicine | E69: 45485 | F69: 0.70833333 | G69: No Show
A70: N/A | B70: P14071 | C70: D2 | D70: Oncology | E70: 45292 | F70: N/A | G70: N/A
A71: A4630 | B71: P57426 | C71: D5 | D71: Cardiology | E71: 45410 | F71: 0.77083333 | G71: No Show
A72: A7337 | B72: P77563 | C72: D8 | D72: Neurology | E72: 45457 | F72: 0.33333333 | G72: Rescheduled
A73: A6960 | B73: P29377 | C73: D12 | D73: Orthopedics | E73: 45407 | F73: 0.75 | G73: No Show
A74: A6763 | B74: P68223 | C74: D5 | D74: Neurology | E74: 45416 | F74: 0.47916667 | G74: Rescheduled
A75: A2399 | B75: P55949 | C75: D17 | D75: Pediatric | E75: 45493 | F75: 0.77083333 | G75: Completed
A76: A7962 | B76: P23588 | C76: D23 | D76: Cardiology | E76: 45392 | F76: 0.33333333 | G76: Completed
A77: A2839 | B77: P73075 | C77: D28 | D77: Oncology | E77: 45382 | F77: 0.375 | G77: No Show
A78: A4322 | B78: P82492 | C78: D6 | D78: Neurology | E78: 45651 | F78: 0.5 | G78: Rescheduled
A79: A4269 | B79: P77493 | C79: D6 | D79: Orthopedics | E79: 45464 | F79: 0.625 | G79: Cancelled
A80: A2273 | B80: P22316 | C80: D22 | D80: Orthopedics | E80: 45504 | F80: 0.58333333 | G80: No Show
A81: A5011 | B81: P49994 | C81: D27 | D81: General Medicine | E81: 45594 | F81: 0.70833333 | G81: Completed
A82: A1280 | B82: P71033 | C82: D5 | D82: Oncology | E82: 45614 | F82: 0.66666667 | G82: Cancelled
... A90: A7866 | B90: P94928 | C90: D14 | D90: Orthopedics | E90: 45468 | F90: 0.625 | G90: Completed
A91: N/A | B91: P50275 | C91: D22 | D91: Oncology | E91: 45305 | F91: N/A | G91: N/A
A92: A4066 | B92: P73844 | C92: D11 | D92: Orthopedics | E92: 45390 | F92: 0.70833333 | G92: No Show
A93: A1698 | B93: P50711 | C93: D17 | D93: General Medicine | E93: 45654 | F93: 0.58333333 | G93: Rescheduled
A94: A9430 | B94: P30920 | C94: D23 | D94: Pediatric | E94: 45454 | F94: 0.45833333 | G94: Cancelled
A95: A4495 | B95: P26650 | C95: D1 | D95: Orthopedics | E95: 45449 | F95: 0.77083333 | G95: Completed
A96: A3333 | B96: P22791 | C96: D1 | D96: Oncology | E96: 45600 | F96: 0.66666667 | G96: Cancelled
A97: A5600 | B97: P17310 | C97: D13 | D97: General Medicine | E97: 45370 | F97: 0.66666667 | G97: Completed
A98: A4561 | B98: P61087 | C98: D25 | D98: Pediatric | E98: 45389 | F98: 0.35416667 | G98: Cancelled
A99: A1739 | B99: P81824 | C99: D3 | D99: Neurology | E99: 45438 | F99: 0.4375 | G99: Cancelled
A100: A2109 | B100: P24131 | C100: D21 | D100: Cardiology | E100: 45457 | F100: 0.5 | G100: No Show
A101: A1157 | B101: P38330 | C101: D2 | D101: Oncology | E101: 45428 | F101: 0.77083333 | G101: Rescheduled
A102: A6884 | B102: P65114 | C102: D18 | D102: Orthopedics | E102: 45367 | F102: 0.41666667 | G102: Completed
A103: A4146 | B103: P88218 | C103: D11 | D103: Pediatric | E103: 45529 | F103: 0.4375 | G103: Completed
... A121: A7880 | B121: P61404 | C121: D17 | D121: Cardiology | E121: 45482 | F121: 0.47916667 | G121: Rescheduled
A122: N/A | B122: P48563 | C122: D7 | D122: N/A | E122: 45538 | F122: N/A | G122: Completed
A123: A8498 | B123: P68408 | C123: D17 | D123: Neurology | E123: 45545 | F123: 0.5 | G123: Completed
A124: A6824 | B124: P80709 | C124: D26 | D124: Cardiology | E124: 45515 | F124: 0.64583333 | G124: Rescheduled
A125: A1087 | B125: P22483 | C125: D7 | D125: Orthopedics | E125: 45423 | F125: 0.58333333 | G125: Completed
A126: A4414 | B126: P29433 | C126: D11 | D126: General Medicine | E126: 45582 | F126: 0.5625 | G126: Completed
A127: A3515 | B127: P81174 | C127: D23 | D127: Orthopedics | E127: 45543 | F127: 0.70833333 | G127: Completed
A128: A2655 | B128: P63392 | C128: D12 | D128: Cardiology | E128: 45324 | F128: 0.625 | G128: Rescheduled
A129: A3613 | B129: P24186 | C129: D24 | D129: General Medicine | E129: 45627 | F129: 0.64583333 | G129: Cancelled
A130: A8377 | B130: P12075 | C130: D27 | D130: Pediatric | E130: 45568 | F130: 0.375 | G130: Completed
A131: A6529 | B131: P36565 | C131: D25 | D131: Oncology | E131: 45535 | F131: 0.45833333 | G131: Cancelled
A132: A2906 | B132: P17033 | C132: D24 | D132: Orthopedics | E132: 45537 | F132: 0.52083333 | G132: Completed
A133: A2994 | B133: P53406 | C133: D23 | D133: Cardiology | E133: 45492 | F133: 0.72916667 | G133: Cancelled
A134: A6194 | B134: P74577 | C134: D2 | D134: Oncology | E134: 45558 | F134: 0.41666667 | G134: Completed
... A150: A3214 | B150: P57937 | C150: D22 | D150: Cardiology | E150: 45616 | F150: 0.58333333 | G150: Cancelled
A151: N/A | B151: P31668 | C151: D5 | D151: Pediatric | E151: 45292 | F151: N/A | G151: N/A
A152: A9946 | B152: P82099 | C152: D16 | D152: Orthopedics | E152: 45594 | F152: 0.64583333 | G152: No Show
A153: A1914 | B153: P94085 | C153: D13 | D153: Pediatric | E153: 45619 | F153: 0.54166667 | G153: No Show
A154: A8524 | B154: P50596 | C154: D4 | D154: Pediatric | E154: 45348 | F154: 0.4375 | G154: Rescheduled
A155: A2924 | B155: P52297 | C155: D1 | D155: Neurology | E155: 45504 | F155: 0.5 | G155: No Show
A156: A7356 | B156: P69830 | C156: D18 | D156: Cardiology | E156: 45558 | F156: 0.5 | G156: Completed
A157: A3207 | B157: P95953 | C157: D2 | D157: Oncology | E157: 45325 | F157: 0.39583333 | G157: Completed
...

Sheet Dashboard_Feedback
A1: FeedbackID | B1: PatientID | C1: Department | D1: Feedback Score | E1: Comments | F1: Wait Time (min) | G1: Satisfaction Level
A2: F1000 | B2: P99601 | C2: Cardiology | D2: 4 | E2: Delayed response | F2: 45 | G2: =IF(D2>=4,"High","Low") -> High
A3: F1001 | B3: P36565 | C3: Orthopedics | D3: 3 | E3: Needs improvement | F3: 45 | G3: =IF(D3>=4,"High","Low") -> Low
A4: F1002 | B4: P99601 | C4: N/A | D4: 6.2708333 | E4: Excellent care | F4: 30 | G4: =IF(D4>=4,"High","Low") -> High
A5: F1003 | B5: P67499 | C5: Neurology | D5: 9 | E5: Amazing team | F5: 30 | G5: =IF(D5>=4,"High","Low") -> High
A6: F1004 | B6: P49994 | C6: Pediatric | D6: 8 | E6: Great doctors | F6: 45 | G6: =IF(D6>=4,"High","Low") -> High
A7: F1005 | B7: P31843 | C7: Pediatric | D7: 5 | E7: Satisfactory | F7: 45 | G7: =IF(D7>=4,"High","Low") -> High
A8: F1006 | B8: P63392 | C8: Neurology | D8: 4 | E8: Delayed response | F8: 45 | G8: =IF(D8>=4,"High","Low") -> High
A9: F1007 | B9: P66658 | C9: Neurology | D9: 7 | E9: Child-friendly staff | F9: 45 | G9: =IF(D9>=4,"High","Low") -> High
A10: F1008 | B10: P95953 | C10: Cardiology | D10: 7 | E10: Child-friendly staff | F10: 45 | G10: =IF(D10>=4,"High","Low") -> High
A11: F1009 | B11: P80770 | C11: Orthopedics | D11: 4 | E11: Delayed response | F11: 45 | G11: =IF(D11>=4,"High","Low") -> High
A12: F1010 | B12: P29680 | C12: Orthopedics | D12: 4 | E12: Room cleanliness issue | F12: 45 | G12: =IF(D12>=4,"High","Low") -> High
A13: F1011 | B13: P93978 | C13: Orthopedics | D13: 3 | E13: Long wait times | F13: 45 | G13: =IF(D13>=4,"High","Low") -> Low
... A18: F1016 | B18: P82827 | C18: Neurology | D18: 5 | E18: Average | F18: 45 | G18: =IF(D18>=4,"High","Low") -> High
A19: F1017 | B19: P25878 | C19: N/A | D19: 6.2708333 | E19: Helpful staff | G19: =IF(D19>=4,"High","Low") -> High
A20: F1018 | B20: P93291 | C20: Neurology | D20: 8 | E20: Efficient process | F20: 45 | G20: =IF(D20>=4,"High","Low") -> High
A21: F1019 | B21: P14299 | C21: Cardiology | D21: 8 | E21: Great doctors | F21: 45 | G21: =IF(D21>=4,"High","Low") -> High
A22: F1020 | B22: P90461 | C22: Oncology | D22: 3 | E22: Needs improvement | F22: 45 | G22: =IF(D22>=4,"High","Low") -> Low
A23: F1021 | B23: P77174 | C23: Pediatric | D23: 4 | E23: Delayed response | F23: 45 | G23: =IF(D23>=4,"High","Low") -> High
A24: F1022 | B24: P38694 | C24: General Medicine | D24: 7 | E24: Child-friendly staff | F24: 45 | G24: =IF(D24>=4,"High","Low") -> High
A25: F1023 | B25: P45916 | C25: General Medicine | D25: 4 | E25: Delayed response | F25: 45 | G25: =IF(D25>=4,"High","Low") -> High
A26: F1024 | B26: P67499 | C26: General Medicine | D26: 9 | E26: Highly recommended | F26: 30 | G26: =IF(D26>=4,"High","Low") -> High
A27: F1025 | B27: P68619 | C27: Pediatric | D27: 4 | E27: Delayed response | F27: 45 | G27: =IF(D27>=4,"High","Low") -> High
A28: F1026 | B28: P11071 | C28: Orthopedics | D28: 7 | E28: Child-friendly staff | F28: 45 | G28: =IF(D28>=4,"High","Low") -> High
A29: F1027 | B29: P18878 | C29: Pediatric | D29: 7 | E29: Satisfactory | F29: 45 | G29: =IF(D29>=4,"High","Low") -> High
A30: F1028 | B30: P88817 | C30: Pediatric | D30: 3 | E30: Needs improvement | F30: 45 | G30: =IF(D30>=4,"High","Low") -> Low
A31: F1029 | B31: P70452 | C31: Neurology | D31: 9 | E31: Excellent care | F31: 30 | G31: =IF(D31>=4,"High","Low") -> High
... A104: F1103 | B104: P29322 | C104: Neurology | D104: 7 | E104: Satisfactory | F104: 45 | G104: =IF(D104>=4,"High","Low") -> High
A105: F1104 | B105: P64103 | C105: N/A | D105: 6.2708333 | E105: N/A | G105: =IF(D105>=4,"High","Low") -> High
A106: F1105 | B106: P93372 | C106: General Medicine | D106: 4 | E106: Delayed response | F106: 45 | G106: =IF(D106>=4,"High","Low") -> High
A107: F1106 | B107: P33026 | C107: Orthopedics | D107: 8 | E107: Great doctors | F107: 45 | G107: =IF(D107>=4,"High","Low") -> High
A108: F1107 | B108: P47436 | C108: Cardiology | D108: 8 | E108: Efficient process | F108: 45 | G108: =IF(D108>=4,"High","Low") -> High
A109: F1108 | B109: P48965 | C109: Oncology | D109: 9 | E109: Highly recommended | F109: 30 | G109: =IF(D109>=4,"High","Low") -> High
A110: F1109 | B110: P20771 | C110: Pediatric | D110: 6 | E110: Very good | F110: 45 | G110: =IF(D110>=4,"High","Low") -> High
A111: F1110 | B111: P32966 | C111: Pediatric | D111: 6 | E111: Very good | F111: 45 | G111: =IF(D111>=4,"High","Low") -> High
A112: F1111 | B112: P65077 | C112: General Medicine | D112: 4 | E112: Delayed response | F112: 45 | G112: =IF(D112>=4,"High","Low") -> High
A113: F1112 | B113: P30147 | C113: Oncology | D113: 3 | E113: Long wait times | F113: 45 | G113: =IF(D113>=4,"High","Low") -> Low
A114: F1113 | B114: P28668 | C114: Pediatric | D114: 4 | E114: Delayed response | F114: 45 | G114: =IF(D114>=4,"High","Low") -> High
A115: F1114 | B115: P54890 | C115: Oncology | D115: 4 | E115: Room cleanliness issue | F115: 45 | G115: =IF(D115>=4,"High","Low") -> High
A116: F1115 | B116: P77589 | C116: Pediatric | D116: 3 | E116: Long wait times | F116: 45 | G116: =IF(D116>=4,"High","Low") -> Low
A117: F1116 | B117: P59917 | C117: General Medicine | D117: 7 | E117: Satisfactory | F117: 45 | G117: =IF(D117>=4,"High","Low") -> High
... A195: F1195 | B195: P30694 | C195: General Medicine | D195: 6 | E195: Very good | F195: 45 | G195: =IF(D195>=4,"High","Low") -> High
A196: F1196 | B196: P59755 | C196: N/A | D196: 6.2708333 | E196: Highly recommended | G196: =IF(D196>=4,"High","Low") -> High
A197: F1197 | B197: P80770 | C197: Oncology | D197: 3 | E197: Needs improvement | F197: 45 | G197: =IF(D197>=4,"High","Low") -> Low
A198: F1198 | B198: P67482 | C198: Oncology | D198: 9 | E198: Amazing team | F198: 30 | G198: =IF(D198>=4,"High","Low") -> High
A199: F1199 | B199: P13204 | C199: Cardiology | D199: 5 | E199: Average | F199: 45 | G199: =IF(D199>=4,"High","Low") -> High

Sheet Dashboard_Resources
A1: ResourceID | B1: Department | C1: ResourceType | D1: UsageHours | E1: Date | F1: Availability
A2: R5487 | B2: Cardiology | C2: Nurse | D2: 2 | E2: 45501 | F2: Available
A3: R8097 | B3: Orthopedics | C3: Doctor | D3: 0 | E3: 45545 | F3: Unavailable
A4: R2557 | B4: General Medicine | C4: Room | D4: 0 | E4: 45643 | F4: Under Maintenance
A5: R9024 | B5: Neurology | C5: Doctor | D5: 9 | E5: 45482 | F5: Available
A6: R9181 | B6: N/A | C6: Room | D6: 1 | F6: Available
A7: R2629 | B7: Oncology | C7: Doctor | D7: 4 | E7: 45357 | F7: Available
A8: R1317 | B8: Cardiology | C8: Nurse | D8: 5 | E8: 45383 | F8: Available
A9: R9640 | B9: Neurology | C9: Room | D9: 1 | E9: 45581 | F9: Available
A10: R1787 | B10: Oncology | C10: Doctor | D10: 8 | E10: 45558 | F10: Available
A11: R9426 | B11: Cardiology | C11: Technician | D11: 5 | E11: 45395 | F11: In Use
A12: R1606 | B12: General Medicine | C12: Nurse | D12: 8 | E12: 45460 | F12: Available
A13: R3242 | B13: Pediatric | C13: Doctor | D13: 6 | E13: 45519 | F13: Available
A14: R6893 | B14: Neurology | C14: Doctor | D14: 3 | E14: 45416 | F14: Available
A15: R3237 | B15: Orthopedics | C15: Nurse | D15: 4 | E15: 45344 | F15: Available
A16: R5274 | B16: General Medicine | C16: Doctor | D16: 7 | E16: 45311 | F16: Available
A17: R1039 | B17: Neurology | C17: Technician | D17: 5 | E17: 45589 | F17: Available
A18: R5597 | B18: Neurology | C18: Nurse | D18: 0 | E18: 45615 | F18: Unavailable
... A21: R5074 | B21: Oncology | C21: Room | D21: 4 | E21: 45652 | F21: In Use
A22: R3855 | B22: Orthopedics | C22: N/A | D22: 0 | F22: Unavailable
A23: R8405 | B23: Neurology | C23: Technician | D23: 5 | E23: 45635 | F23: Available
A24: R5984 | B24: Orthopedics | C24: Equipment | D24: 3 | E24: 45644 | F24: In Use
A25: R6968 | B25: General Medicine | C25: Doctor | D25: 1 | E25: 45641 | F25: Available
A26: R7116 | B26: Cardiology | C26: Technician | D26: 8 | E26: 45392 | F26: Available
A27: R4399 | B27: General Medicine | C27: Room | D27: 0 | E27: 45558 | F27: Under Maintenance
A28: R6261 | B28: Neurology | C28: Equipment | D28: 0 | E28: 45486 | F28: Under Maintenance
A29: R9923 | B29: Cardiology | C29: Technician | D29: 8 | E29: 45322 | F29: Available
A30: R6097 | B30: Neurology | C30: Nurse | D30: 9 | E30: 45520 | F30: Available
A31: R1624 | B31: Oncology | C31: Room | D31: 2 | E31: 45622 | F31: In Use
A32: R6385 | B32: Oncology | C32: Doctor | D32: 0 | E32: 45642 | F32: Unavailable
A33: R2625 | B33: Neurology | C33: Equipment | D33: 0 | E33: 45384 | F33: Under Maintenance
A34: R3097 | B34: Orthopedics | C34: Room | D34: 0 | E34: 45446 | F34: Under Maintenance
... A44: R2833 | B44: General Medicine | C44: Equipment | D44: 3 | E44: 45507 | F44: In Use
A45: N/A | B45: Oncology | C45: N/A | D45: 1 | F45: Available
A46: R5799 | B46: General Medicine | C46: Nurse | D46: 9 | E46: 45313 | F46: Available
A47: R2825 | B47: Pediatric | C47: Technician | D47: 8 | E47: 45347 | F47: Available
A48: R5252 | B48: Pediatric | C48: Nurse | D48: 7 | E48: 45466 | F48: Available
A49: R7354 | B49: Pediatric | C49: Doctor | D49: 9 | E49: 45350 | F49: Available
A50: R2717 | B50: Cardiology | C50: Technician | D50: 3 | E50: 45590 | F50: Available
A51: R3782 | B51: Pediatric | C51: Doctor | D51: 7 | E51: 45324 | F51: In Use
A52: R1276 | B52: Oncology | C52: Technician | D52: 9 | E52: 45630 | F52: Available
A53: R2832 | B53: Pediatric | C53: Technician | D53: 9 | E53: 45482 | F53: Available
A54: R7226 | B54: Neurology | C54: Technician | D54: 3 | E54: 45370 | F54: Available
A55: R3607 | B55: Neurology | C55: Equipment | D55: 9 | E55: 45362 | F55: Available
A56: R9177 | B56: General Medicine | C56: Technician | D56: 8 | E56: 45633 | F56: Available
A57: R1427 | B57: General Medicine | C57: Nurse | D57: 7 | E57: 45556 | F57: Available
... A76: R2221 | B76: Pediatric | C76: Equipment | D76: 0 | E76: 45392 | F76: Under Maintenance
A77: R8679 | B77: N/A | C77: Doctor | D77: 2 | F77: Available
A78: R7880 | B78: Cardiology | C78: Technician | D78: 7 | E78: 45651 | F78: Available
A79: R9173 | B79: Orthopedics | C79: Doctor | D79: 6 | E79: 45464 | F79: Available
A80: R8674 | B80: Orthopedics | C80: Room | D80: 2 | E80: 45504 | F80: Available
A81: R3194 | B81: Neurology | C81: Equipment | D81: 2 | E81: 45594 | F81: In Use
A82: R8628 | B82: Cardiology | C82: Equipment | D82: 6 | E82: 45614 | F82: Available
A83: R8103 | B83: Pediatric | C83: Room | D83: 7 | E83: 45541 | F83: In Use
A84: R4911 | B84: Oncology | C84: Equipment | D84: 0 | E84: 45440 | F84: Under Maintenance
A85: R8724 | B85: Orthopedics | C85: Nurse | D85: 0 | E85: 45307 | F85: Unavailable
A86: R3152 | B86: General Medicine | C86: Doctor | D86: 0 | E86: 45351 | F86: Unavailable
A87: R8641 | B87: Cardiology | C87: Room | D87: 9 | E87: 45523 | F87: In Use
A88: R4369 | B88: General Medicine | C88: Doctor | D88: 5 | E88: 45534 | F88: Available
A89: R2354 | B89: Orthopedics | C89: Doctor | D89: 7 | E89: 45386 | F89: Available
... A126: R2004 | B126: Neurology | C126: Equipment | D126: 4 | E126: 45582 | F126: In Use
A127: N/A | B127: Cardiology | C127: N/A | D127: 2 | F127: In Use
A128: R3795 | B128: Pediatric | C128: Doctor | D128: 6 | E128: 45324 | F128: Available
A129: R5550 | B129: Cardiology | C129: Equipment | D129: 3 | E129: 45627 | F129: Available
A130: R1369 | B130: Orthopedics | C130: Nurse | D130: 4 | E130: 45568 | F130: Available
A131: R9210 | B131: Neurology | C131: Doctor | D131: 1 | E131: 45535 | F131: Available
A132: R7907 | B132: Orthopedics | C132: Equipment | D132: 2 | E132: 45537 | F132: In Use
A133: R5061 | B133: General Medicine | C133: Doctor | D133: 0 | E133: 45492 | F133: Unavailable
A134: R3257 | B134: Neurology | C134: Technician | D134: 6 | E134: 45558 | F134: Available
A135: R6179 | B135: General Medicine | C135: Technician | D135: 4 | E135: 45502 | F135: Available
A136: R2158 | B136: Oncology | C136: Nurse | D136: 3 | E136: 45367 | F136: Available
A137: R4245 | B137: Cardiology | C137: Room | D137: 8 | E137: 45634 | F137: In Use
A138: R3900 | B138: General Medicine | C138: Technician | D138: 8 | E138: 45465 | F138: Available
A139: R8250 | B139: Neurology | C139: Technician | D139: 0 | E139: 45443 | F139: Unavailable
... A195: R9553 | B195: Oncology | C195: Doctor | D195: 0 | E195: 45317 | F195: Unavailable
A196: N/A | B196: Oncology | C196: N/A | D196: 9 | F196: Unavailable
A197: R1385 | B197: Pediatric | C197: Doctor | D197: 0 | E197: 45377 | F197: Unavailable
A198: R8161 | B198: General Medicine | C198: Equipment | D198: 1 | E198: 45645 | F198: Available
A199: R5806 | B199: Pediatric | C199: Doctor | D199: 8 | E199: 45368 | F199: Available
A200: R1560 | B200: Pediatric | C200: Technician | D200: 6 | E200: 45432 | F200: Available
A201: R3933 | B201: Neurology | C201: Doctor | D201: 8 | E201: 45568 | F201: Available

Sheet Dashboard_Data
A1: Department | B1: Appointments | C1: Completion Rate | D1: No-Show Rate | E1: Average Feedback | F1: Average Wait | G1: Average Resource Hours | H1: Availability Rate
A2: Cardiology | B2: =COUNTIF(Dashboard_Appointments!$D$2:$D$201,A2) -> 38 | C2: =IFERROR(COUNTIFS(Dashboard_Appointments!$D$2:$D$201,A2,Dashboard_Appointments!$G$2:$G$201,"Completed")/B2,0) -> 0.34210526 | D2: =IFERROR(COUNTIFS(Dashboard_Appointments!$D$2:$D$201,A2,Dashboard_Appointments!$G$2:$G$201,"No Show")/B2,0) -> 0.13157895 | E2: =IF(COUNTIF(Dashboard_Feedback!$C$2:$C$199,A2)=0,"Unavailable",IFERROR(AVERAGEIF(Dashboard_Feedback!$C$2:$C$199,A2,Dashboard_Feedback!$D$2:$D$199),"Unavailable")) -> 7.030303 | F2: =IF(COUNTIFS(Dashboard_Feedback!$C$2:$C$199,A2,Dashboard_Feedback!$F$2:$F$199,"<>")=0,"Unavailable",IFERROR(AVERAGEIF(Dashboard_Feedback!$C$2:$C$199,A2,Dashboard_Feedback!$F$2:$F$199),"Unavailable")) -> 40 | G2: =IF(COUNTIF(Dashboard_Resources!$B$2:$B$201,A2)=0,"Unavailable",IFERROR(AVERAGEIF(Dashboard_Resources!$B$2:$B$201,A2,Dashboard_Resources!$D$2:$D$201),"Unavailable")) -> 4.1818182 | H2: =IF(COUNTIF(Dashboard_Resources!$B$2:$B$201,A2)=0,"Unavailable",COUNTIFS(Dashboard_Resources!$B$2:$B$201,A2,Dashboard_Resources!$F$2:$F$201,"Available")/COUNTIF(Dashboard_Resources!$B$2:$B$201,A2)) -> 0.59090909
A3: General Medicine | B3: =COUNTIF(Dashboard_Appointments!$D$2:$D$201,A3) -> 27 | C3: =IFERROR(COUNTIFS(Dashboard_Appointments!$D$2:$D$201,A3,Dashboard_Appointments!$G$2:$G$201,"Completed")/B3,0) -> 0.25925926 | D3: =IFERROR(COUNTIFS(Dashboard_Appointments!$D$2:$D$201,A3,Dashboard_Appointments!$G$2:$G$201,"No Show")/B3,0) -> 0.18518519 | E3: =IF(COUNTIF(Dashboard_Feedback!$C$2:$C$199,A3)=0,"Unavailable",IFERROR(AVERAGEIF(Dashboard_Feedback!$C$2:$C$199,A3,Dashboard_Feedback!$D$2:$D$199),"Unavailable")) -> 5.3846154 | F3: =IF(COUNTIFS(Dashboard_Feedback!$C$2:$C$199,A3,Dashboard_Feedback!$F$2:$F$199,"<>")=0,"Unavailable",IFERROR(AVERAGEIF(Dashboard_Feedback!$C$2:$C$199,A3,Dashboard_Feedback!$F$2:$F$199),"Unavailable")) -> 43.846154 | G3: =IF(COUNTIF(Dashboard_Resources!$B$2:$B$201,A3)=0,"Unavailable",IFERROR(AVERAGEIF(Dashboard_Resources!$B$2:$B$201,A3,Dashboard_Resources!$D$2:$D$201),"Unavailable")) -> 3.4102564 | H3: =IF(COUNTIF(Dashboard_Resources!$B$2:$B$201,A3)=0,"Unavailable",COUNTIFS(Dashboard_Resources!$B$2:$B$201,A3,Dashboard_Resources!$F$2:$F$201,"Available")/COUNTIF(Dashboard_Resources!$B$2:$B$201,A3)) -> 0.56410256
A4: Neurology | B4: =COUNTIF(Dashboard_Appointments!$D$2:$D$201,A4) -> 35 | C4: =IFERROR(COUNTIFS(Dashboard_Appointments!$D$2:$D$201,A4,Dashboard_Appointments!$G$2:$G$201,"Completed")/B4,0) -> 0.28571429 | D4: =IFERROR(COUNTIFS(Dashboard_Appointments!$D$2:$D$201,A4,Dashboard_Appointments!$G$2:$G$201,"No Show")/B4,0) -> 0.25714286 | E4: =IF(COUNTIF(Dashboard_Feedback!$C$2:$C$199,A4)=0,"Unavailable",IFERROR(AVERAGEIF(Dashboard_Feedback!$C$2:$C$199,A4,Dashboard_Feedback!$D$2:$D$199),"Unavailable")) -> 6.2647059 | F4: =IF(COUNTIFS(Dashboard_Feedback!$C$2:$C$199,A4,Dashboard_Feedback!$F$2:$F$199,"<>")=0,"Unavailable",IFERROR(AVERAGEIF(Dashboard_Feedback!$C$2:$C$199,A4,Dashboard_Feedback!$F$2:$F$199),"Unavailable")) -> 42.794118 | G4: =IF(COUNTIF(Dashboard_Resources!$B$2:$B$201,A4)=0,"Unavailable",IFERROR(AVERAGEIF(Dashboard_Resources!$B$2:$B$201,A4,Dashboard_Resources!$D$2:$D$201),"Unavailable")) -> 3.7941176 | H4: =IF(COUNTIF(Dashboard_Resources!$B$2:$B$201,A4)=0,"Unavailable",COUNTIFS(Dashboard_Resources!$B$2:$B$201,A4,Dashboard_Resources!$F$2:$F$201,"Available")/COUNTIF(Dashboard_Resources!$B$2:$B$201,A4)) -> 0.64705882
A5: Oncology | B5: =COUNTIF(Dashboard_Appointments!$D$2:$D$201,A5) -> 32 | C5: =IFERROR(COUNTIFS(Dashboard_Appointments!$D$2:$D$201,A5,Dashboard_Appointments!$G$2:$G$201,"Completed")/B5,0) -> 0.21875 | D5: =IFERROR(COUNTIFS(Dashboard_Appointments!$D$2:$D$201,A5,Dashboard_Appointments!$G$2:$G$201,"No Show")/B5,0) -> 0.28125 | E5: =IF(COUNTIF(Dashboard_Feedback!$C$2:$C$199,A5)=0,"Unavailable",IFERROR(AVERAGEIF(Dashboard_Feedback!$C$2:$C$199,A5,Dashboard_Feedback!$D$2:$D$199),"Unavailable")) -> 6.5 | F5: =IF(COUNTIFS(Dashboard_Feedback!$C$2:$C$199,A5,Dashboard_Feedback!$F$2:$F$199,"<>")=0,"Unavailable",IFERROR(AVERAGEIF(Dashboard_Feedback!$C$2:$C$199,A5,Dashboard_Feedback!$F$2:$F$199),"Unavailable")) -> 39.375 | G5: =IF(COUNTIF(Dashboard_Resources!$B$2:$B$201,A5)=0,"Unavailable",IFERROR(AVERAGEIF(Dashboard_Resources!$B$2:$B$201,A5,Dashboard_Resources!$D$2:$D$201),"Unavailable")) -> 3.5555556 | H5: =IF(COUNTIF(Dashboard_Resources!$B$2:$B$201,A5)=0,"Unavailable",COUNTIFS(Dashboard_Resources!$B$2:$B$201,A5,Dashboard_Resources!$F$2:$F$201,"Available")/COUNTIF(Dashboard_Resources!$B$2:$B$201,A5)) -> 0.58333333
A6: Orthopedics | B6: =COUNTIF(Dashboard_Appointments!$D$2:$D$201,A6) -> 30 | C6: =IFERROR(COUNTIFS(Dashboard_Appointments!$D$2:$D$201,A6,Dashboard_Appointments!$G$2:$G$201,"Completed")/B6,0) -> 0.26666667 | D6: =IFERROR(COUNTIFS(Dashboard_Appointments!$D$2:$D$201,A6,Dashboard_Appointments!$G$2:$G$201,"No Show")/B6,0) -> 0.4 | E6: =IF(COUNTIF(Dashboard_Feedback!$C$2:$C$199,A6)=0,"Unavailable",IFERROR(AVERAGEIF(Dashboard_Feedback!$C$2:$C$199,A6,Dashboard_Feedback!$D$2:$D$199),"Unavailable")) -> 5.9310345 | F6: =IF(COUNTIFS(Dashboard_Feedback!$C$2:$C$199,A6,Dashboard_Feedback!$F$2:$F$199,"<>")=0,"Unavailable",IFERROR(AVERAGEIF(Dashboard_Feedback!$C$2:$C$199,A6,Dashboard_Feedback!$F$2:$F$199),"Unavailable")) -> 42.413793 | G6: =IF(COUNTIF(Dashboard_Resources!$B$2:$B$201,A6)=0,"Unavailable",IFERROR(AVERAGEIF(Dashboard_Resources!$B$2:$B$201,A6,Dashboard_Resources!$D$2:$D$201),"Unavailable")) -> 3.3703704 | H6: =IF(COUNTIF(Dashboard_Resources!$B$2:$B$201,A6)=0,"Unavailable",COUNTIFS(Dashboard_Resources!$B$2:$B$201,A6,Dashboard_Resources!$F$2:$F$201,"Available")/COUNTIF(Dashboard_Resources!$B$2:$B$201,A6)) -> 0.51851852
A7: Pediatric | B7: =COUNTIF(Dashboard_Appointments!$D$2:$D$201,A7) -> 37 | C7: =IFERROR(COUNTIFS(Dashboard_Appointments!$D$2:$D$201,A7,Dashboard_Appointments!$G$2:$G$201,"Completed")/B7,0) -> 0.27027027 | D7: =IFERROR(COUNTIFS(Dashboard_Appointments!$D$2:$D$201,A7,Dashboard_Appointments!$G$2:$G$201,"No Show")/B7,0) -> 0.16216216 | E7: =IF(COUNTIF(Dashboard_Feedback!$C$2:$C$199,A7)=0,"Unavailable",IFERROR(AVERAGEIF(Dashboard_Feedback!$C$2:$C$199,A7,Dashboard_Feedback!$D$2:$D$199),"Unavailable")) -> 6.3243243 | F7: =IF(COUNTIFS(Dashboard_Feedback!$C$2:$C$199,A7,Dashboard_Feedback!$F$2:$F$199,"<>")=0,"Unavailable",IFERROR(AVERAGEIF(Dashboard_Feedback!$C$2:$C$199,A7,Dashboard_Feedback!$F$2:$F$199),"Unavailable")) -> 41.351351 | G7: =IF(COUNTIF(Dashboard_Resources!$B$2:$B$201,A7)=0,"Unavailable",IFERROR(AVERAGEIF(Dashboard_Resources!$B$2:$B$201,A7,Dashboard_Resources!$D$2:$D$201),"Unavailable")) -> 4.85 | H7: =IF(COUNTIF(Dashboard_Resources!$B$2:$B$201,A7)=0,"Unavailable",COUNTIFS(Dashboard_Resources!$B$2:$B$201,A7,Dashboard_Resources!$F$2:$F$201,"Available")/COUNTIF(Dashboard_Resources!$B$2:$B$201,A7)) -> 0.6
A9: Metric | B9: Formula-backed result
A10: Clean appointment rows | B10: =COUNTA(Dashboard_Appointments!$A$2:$A$201) -> 200
A11: Clean feedback rows | B11: =COUNTA(Dashboard_Feedback!$A$2:$A$199) -> 198
A12: Clean resource rows | B12: =COUNTA(Dashboard_Resources!$A$2:$A$201) -> 200
A13: Overall completion rate | B13: =COUNTIF(Dashboard_Appointments!$G$2:$G$201,"Completed")/B10 -> 0.28
A14: Overall no-show rate | B14: =COUNTIF(Dashboard_Appointments!$G$2:$G$201,"No Show")/B10 -> 0.23

Sheet Pivot Resources
A1: Resource usage by department and resource type
A3: Average usage hours | B3: Column Labels
A4: Row Labels | B4: Doctor | C4: Equipment | D4: N/A | E4: Nurse | F4: Room | G4: Technician | H4: Grand Total
A5: Cardiology | B5: 0 | C5: 3 | D5: 2 | E5: 2.3333333 | F5: 5.6 | G5: 5.375 | H5: 4.1818182
A6: General Medicine | B6: 2.6 | C6: 2.25 | E6: 4.9090909 | F6: 1.3333333 | G6: 4.4444444 | H6: 3.4102564
A7: N/A | B7: 2 | F7: 1 | H7: 1.5
A8: Neurology | B8: 5.5714286 | C8: 4 | E8: 2.1428571 | F8: 3.75 | G8: 3.5 | H8: 3.7941176
A9: Oncology | B9: 3.6666667 | C9: 1.2 | D9: 5 | E9: 4.75 | F9: 3.125 | G9: 4.375 | H9: 3.5555556
A10: Orthopedics | B10: 6.5714286 | C10: 1.4 | D10: 0 | E10: 3 | F10: 2.5 | G10: 2.75 | H10: 3.3703704
A11: Pediatric | B11: 4.6923077 | C11: 3 | E11: 2.1666667 | F11: 6.8571429 | G11: 5.7272727 | H11: 4.85
A12: Grand Total | B12: 4.5116279 | C12: 2.5454545 | D12: 3 | E12: 3.4285714 | F12: 3.7837838 | G12: 4.5833333 | H12: 3.85

Sheet Pivot Satisfaction
A1: Substantive feedback responses and scores by department
B3: Column Labels
B4: High | D4: Low | F4: Total Feedback responses | G4: Total Average score
A5: Row Labels | B5: Feedback responses | C5: Average score | D5: Feedback responses | E5: Average score
A6: Cardiology | B6: 31 | C6: 7.2903226 | D6: 2 | E6: 3 | F6: 33 | G6: 7.030303
A7: General Medicine | B7: 21 | C7: 5.952381 | D7: 5 | E7: 3 | F7: 26 | G7: 5.3846154
A8: N/A | B8: 7 | C8: 6.0892857 | F8: 7 | G8: 6.0892857
A9: Neurology | B9: 33 | C9: 6.3636364 | D9: 1 | E9: 3 | F9: 34 | G9: 6.2647059
A10: Oncology | B10: 26 | C10: 7.3076923 | D10: 6 | E10: 3 | F10: 32 | G10: 6.5
A11: Orthopedics | B11: 21 | C11: 7.047619 | D11: 8 | E11: 3 | F11: 29 | G11: 5.9310345
A12: Pediatric | B12: 32 | C12: 6.84375 | D12: 5 | E12: 3 | F12: 37 | G12: 6.3243243
A13: Grand Total | B13: 171 | C13: 6.7872807 | D13: 27 | E13: 3 | F13: 198 | G13: 6.2708333

Sheet Pivot Appointments
A1: Appointment counts by department, status and hour
A3: Appointment rows | B3: Column Labels
A4: Row Labels | B4: Cancelled | C4: Completed | D4: N/A | E4: No Show | F4: Rescheduled | G4: Grand Total
A5: Cardiology | B5: 11 | C5: 13 | D5: 1 | E5: 5 | F5: 8 | G5: 38
A6: General Medicine | B6: 7 | C6: 7 | D6: 3 | E6: 5 | F6: 5 | G6: 27
A7: N/A | C7: 1 | G7: 1
A8: Neurology | B8: 7 | C8: 10 | D8: 1 | E8: 9 | F8: 8 | G8: 35
A9: Oncology | B9: 6 | C9: 7 | D9: 3 | E9: 9 | F9: 7 | G9: 32
A10: Orthopedics | B10: 4 | C10: 8 | E10: 12 | F10: 6 | G10: 30
A11: Pediatric | B11: 9 | C11: 10 | D11: 1 | E11: 6 | F11: 11 | G11: 37
A12: Grand Total | B12: 44 | C12: 56 | D12: 9 | E12: 46 | F12: 45 | G12: 200
A17: Row Labels | B17: Appointments by hour
A18: N/A | B18: 9
A19: 0.33333333 | B19: 11
A20: 0.35416667 | B20: 7
A21: 0.375 | B21: 8
A22: 0.39583333 | B22: 7
A23: 0.41666667 | B23: 10
A24: 0.4375 | B24: 4
A25: 0.45833333 | B25: 11
A26: 0.47916667 | B26: 6
A27: 0.5 | B27: 12
A28: 0.52083333 | B28: 6
A29: 0.54166667 | B29: 7
A30: 0.5625 | B30: 5
... A40: 0.77083333 | B40: 12
A41: Grand Total | B41: 200

Sheet Dashboard
A1: HealthFirst Care | Operational Analytics Dashboard
A2: Department view | B2: All
A3: Clean Appointments | D3: Completion Rate | G3: No-Show Rate | J3: Avg. Wait (min)
A4: =IF($B$2="All",Dashboard_Data!$B$10,IFERROR(INDEX(Dashboard_Data!$B$2:$B$7,MATCH($B$2,Dashboard_Data!$A$2:$A$7,0)),"Unavailable")) -> 200 | D4: =IF($B$2="All",Dashboard_Data!$B$13,IFERROR(INDEX(Dashboard_Data!$C$2:$C$7,MATCH($B$2,Dashboard_Data!$A$2:$A$7,0)),"Unavailable")) -> 0.28 | G4: =IF($B$2="All",Dashboard_Data!$B$14,IFERROR(INDEX(Dashboard_Data!$D$2:$D$7,MATCH($B$2,Dashboard_Data!$A$2:$A$7,0)),"Unavailable")) -> 0.23 | J4: =IF($B$2="All",IFERROR(AVERAGE(Dashboard_Feedback!$F$2:$F$199),"Unavailable"),IFERROR(INDEX(Dashboard_Data!$F$2:$F$7,MATCH($B$2,Dashboard_Data!$A$2:$A$7,0)),"Unavailable")) -> 41.538462
A7: Select a department above: the cards, comparison table and its charts update together. Pivot-sheet slicers are separate exploratory views.
A8: Department | B8: Appointments | C8: Completion Rate | D8: No-Show Rate | E8: Average Feedback | F8: Average Wait | G8: Average Resource Hours | H8: Availability Rate
A9: =IF($B$2="All",Dashboard_Data!A2,$B$2) -> Cardiology | B9: =IF($A9="","",IFERROR(INDEX(Dashboard_Data!$B$2:$B$7,MATCH($A9,Dashboard_Data!$A$2:$A$7,0)),"Unavailable")) -> 38 | C9: =IF($A9="","",IFERROR(INDEX(Dashboard_Data!$C$2:$C$7,MATCH($A9,Dashboard_Data!$A$2:$A$7,0)),"Unavailable")) -> 0.34210526 | D9: =IF($A9="","",IFERROR(INDEX(Dashboard_Data!$D$2:$D$7,MATCH($A9,Dashboard_Data!$A$2:$A$7,0)),"Unavailable")) -> 0.13157895 | E9: =IF($A9="","",IFERROR(INDEX(Dashboard_Data!$E$2:$E$7,MATCH($A9,Dashboard_Data!$A$2:$A$7,0)),"Unavailable")) -> 7.030303 | F9: =IF($A9="","",IFERROR(INDEX(Dashboard_Data!$F$2:$F$7,MATCH($A9,Dashboard_Data!$A$2:$A$7,0)),"Unavailable")) -> 40 | G9: =IF($A9="","",IFERROR(INDEX(Dashboard_Data!$G$2:$G$7,MATCH($A9,Dashboard_Data!$A$2:$A$7,0)),"Unavailable")) -> 4.1818182 | H9: =IF($A9="","",IFERROR(INDEX(Dashboard_Data!$H$2:$H$7,MATCH($A9,Dashboard_Data!$A$2:$A$7,0)),"Unavailable")) -> 0.59090909
A10: =IF($B$2="All",Dashboard_Data!A3,"") -> General Medicine | B10: =IF($A10="","",IFERROR(INDEX(Dashboard_Data!$B$2:$B$7,MATCH($A10,Dashboard_Data!$A$2:$A$7,0)),"Unavailable")) -> 27 | C10: =IF($A10="","",IFERROR(INDEX(Dashboard_Data!$C$2:$C$7,MATCH($A10,Dashboard_Data!$A$2:$A$7,0)),"Unavailable")) -> 0.25925926 | D10: =IF($A10="","",IFERROR(INDEX(Dashboard_Data!$D$2:$D$7,MATCH($A10,Dashboard_Data!$A$2:$A$7,0)),"Unavailable")) -> 0.18518519 | E10: =IF($A10="","",IFERROR(INDEX(Dashboard_Data!$E$2:$E$7,MATCH($A10,Dashboard_Data!$A$2:$A$7,0)),"Unavailable")) -> 5.3846154 | F10: =IF($A10="","",IFERROR(INDEX(Dashboard_Data!$F$2:$F$7,MATCH($A10,Dashboard_Data!$A$2:$A$7,0)),"Unavailable")) -> 43.846154 | G10: =IF($A10="","",IFERROR(INDEX(Dashboard_Data!$G$2:$G$7,MATCH($A10,Dashboard_Data!$A$2:$A$7,0)),"Unavailable")) -> 3.4102564 | H10: =IF($A10="","",IFERROR(INDEX(Dashboard_Data!$H$2:$H$7,MATCH($A10,Dashboard_Data!$A$2:$A$7,0)),"Unavailable")) -> 0.56410256
A11: =IF($B$2="All",Dashboard_Data!A4,"") -> Neurology | B11: =IF($A11="","",IFERROR(INDEX(Dashboard_Data!$B$2:$B$7,MATCH($A11,Dashboard_Data!$A$2:$A$7,0)),"Unavailable")) -> 35 | C11: =IF($A11="","",IFERROR(INDEX(Dashboard_Data!$C$2:$C$7,MATCH($A11,Dashboard_Data!$A$2:$A$7,0)),"Unavailable")) -> 0.28571429 | D11: =IF($A11="","",IFERROR(INDEX(Dashboard_Data!$D$2:$D$7,MATCH($A11,Dashboard_Data!$A$2:$A$7,0)),"Unavailable")) -> 0.25714286 | E11: =IF($A11="","",IFERROR(INDEX(Dashboard_Data!$E$2:$E$7,MATCH($A11,Dashboard_Data!$A$2:$A$7,0)),"Unavailable")) -> 6.2647059 | F11: =IF($A11="","",IFERROR(INDEX(Dashboard_Data!$F$2:$F$7,MATCH($A11,Dashboard_Data!$A$2:$A$7,0)),"Unavailable")) -> 42.794118 | G11: =IF($A11="","",IFERROR(INDEX(Dashboard_Data!$G$2:$G$7,MATCH($A11,Dashboard_Data!$A$2:$A$7,0)),"Unavailable")) -> 3.7941176 | H11: =IF($A11="","",IFERROR(INDEX(Dashboard_Data!$H$2:$H$7,MATCH($A11,Dashboard_Data!$A$2:$A$7,0)),"Unavailable")) -> 0.64705882
A12: =IF($B$2="All",Dashboard_Data!A5,"") -> Oncology | B12: =IF($A12="","",IFERROR(INDEX(Dashboard_Data!$B$2:$B$7,MATCH($A12,Dashboard_Data!$A$2:$A$7,0)),"Unavailable")) -> 32 | C12: =IF($A12="","",IFERROR(INDEX(Dashboard_Data!$C$2:$C$7,MATCH($A12,Dashboard_Data!$A$2:$A$7,0)),"Unavailable")) -> 0.21875 | D12: =IF($A12="","",IFERROR(INDEX(Dashboard_Data!$D$2:$D$7,MATCH($A12,Dashboard_Data!$A$2:$A$7,0)),"Unavailable")) -> 0.28125 | E12: =IF($A12="","",IFERROR(INDEX(Dashboard_Data!$E$2:$E$7,MATCH($A12,Dashboard_Data!$A$2:$A$7,0)),"Unavailable")) -> 6.5 | F12: =IF($A12="","",IFERROR(INDEX(Dashboard_Data!$F$2:$F$7,MATCH($A12,Dashboard_Data!$A$2:$A$7,0)),"Unavailable")) -> 39.375 | G12: =IF($A12="","",IFERROR(INDEX(Dashboard_Data!$G$2:$G$7,MATCH($A12,Dashboard_Data!$A$2:$A$7,0)),"Unavailable")) -> 3.5555556 | H12: =IF($A12="","",IFERROR(INDEX(Dashboard_Data!$H$2:$H$7,MATCH($A12,Dashboard_Data!$A$2:$A$7,0)),"Unavailable")) -> 0.58333333
A13: =IF($B$2="All",Dashboard_Data!A6,"") -> Orthopedics | B13: =IF($A13="","",IFERROR(INDEX(Dashboard_Data!$B$2:$B$7,MATCH($A13,Dashboard_Data!$A$2:$A$7,0)),"Unavailable")) -> 30 | C13: =IF($A13="","",IFERROR(INDEX(Dashboard_Data!$C$2:$C$7,MATCH($A13,Dashboard_Data!$A$2:$A$7,0)),"Unavailable")) -> 0.26666667 | D13: =IF($A13="","",IFERROR(INDEX(Dashboard_Data!$D$2:$D$7,MATCH($A13,Dashboard_Data!$A$2:$A$7,0)),"Unavailable")) -> 0.4 | E13: =IF($A13="","",IFERROR(INDEX(Dashboard_Data!$E$2:$E$7,MATCH($A13,Dashboard_Data!$A$2:$A$7,0)),"Unavailable")) -> 5.9310345 | F13: =IF($A13="","",IFERROR(INDEX(Dashboard_Data!$F$2:$F$7,MATCH($A13,Dashboard_Data!$A$2:$A$7,0)),"Unavailable")) -> 42.413793 | G13: =IF($A13="","",IFERROR(INDEX(Dashboard_Data!$G$2:$G$7,MATCH($A13,Dashboard_Data!$A$2:$A$7,0)),"Unavailable")) -> 3.3703704 | H13: =IF($A13="","",IFERROR(INDEX(Dashboard_Data!$H$2:$H$7,MATCH($A13,Dashboard_Data!$A$2:$A$7,0)),"Unavailable")) -> 0.51851852
A14: =IF($B$2="All",Dashboard_Data!A7,"") -> Pediatric | B14: =IF($A14="","",IFERROR(INDEX(Dashboard_Data!$B$2:$B$7,MATCH($A14,Dashboard_Data!$A$2:$A$7,0)),"Unavailable")) -> 37 | C14: =IF($A14="","",IFERROR(INDEX(Dashboard_Data!$C$2:$C$7,MATCH($A14,Dashboard_Data!$A$2:$A$7,0)),"Unavailable")) -> 0.27027027 | D14: =IF($A14="","",IFERROR(INDEX(Dashboard_Data!$D$2:$D$7,MATCH($A14,Dashboard_Data!$A$2:$A$7,0)),"Unavailable")) -> 0.16216216 | E14: =IF($A14="","",IFERROR(INDEX(Dashboard_Data!$E$2:$E$7,MATCH($A14,Dashboard_Data!$A$2:$A$7,0)),"Unavailable")) -> 6.3243243 | F14: =IF($A14="","",IFERROR(INDEX(Dashboard_Data!$F$2:$F$7,MATCH($A14,Dashboard_Data!$A$2:$A$7,0)),"Unavailable")) -> 41.351351 | G14: =IF($A14="","",IFERROR(INDEX(Dashboard_Data!$G$2:$G$7,MATCH($A14,Dashboard_Data!$A$2:$A$7,0)),"Unavailable")) -> 4.85 | H14: =IF($A14="","",IFERROR(INDEX(Dashboard_Data!$H$2:$H$7,MATCH($A14,Dashboard_Data!$A$2:$A$7,0)),"Unavailable")) -> 0.6
